BEGIN:VCALENDAR
VERSION:2.0
PRODID:-//GMC38 - ECPv6.15.13//NONSGML v1.0//EN
CALSCALE:GREGORIAN
METHOD:PUBLISH
X-WR-CALNAME:GMC38
X-ORIGINAL-URL:http://gmc38.fr
X-WR-CALDESC:Évènements pour GMC38
REFRESH-INTERVAL;VALUE=DURATION:PT1H
X-Robots-Tag:noindex
X-PUBLISHED-TTL:PT1H
BEGIN:VTIMEZONE
TZID:Europe/Paris
BEGIN:DAYLIGHT
TZOFFSETFROM:+0100
TZOFFSETTO:+0200
TZNAME:CEST
DTSTART:20240331T010000
END:DAYLIGHT
BEGIN:STANDARD
TZOFFSETFROM:+0200
TZOFFSETTO:+0100
TZNAME:CET
DTSTART:20241027T010000
END:STANDARD
BEGIN:DAYLIGHT
TZOFFSETFROM:+0100
TZOFFSETTO:+0200
TZNAME:CEST
DTSTART:20250330T010000
END:DAYLIGHT
BEGIN:STANDARD
TZOFFSETFROM:+0200
TZOFFSETTO:+0100
TZNAME:CET
DTSTART:20251026T010000
END:STANDARD
BEGIN:DAYLIGHT
TZOFFSETFROM:+0100
TZOFFSETTO:+0200
TZNAME:CEST
DTSTART:20260329T010000
END:DAYLIGHT
BEGIN:STANDARD
TZOFFSETFROM:+0200
TZOFFSETTO:+0100
TZNAME:CET
DTSTART:20261025T010000
END:STANDARD
END:VTIMEZONE
BEGIN:VEVENT
DTSTART;TZID=Europe/Paris:20250914T120000
DTEND;TZID=Europe/Paris:20250914T170000
DTSTAMP:20260421T122932
CREATED:20250820T091250Z
LAST-MODIFIED:20250820T091250Z
UID:1342852-1757851200-1757869200@gmc38.fr
SUMMARY:U17- GRAND PRIX DE FONTAINE
DESCRIPTION:GRAND PRIX DE LA VILLE FONTAINE [38]: ASF Cyclisme U17 \nCIRCUIT: 1.7KM X 29 tours soit 50 km \nDOSSARDS: 11h00 – Contre allée Bd Paul Langevin 38600 FONTAINE \nDEPART: 12h00 – idem \nEngagements par internet: https://club.ffc.fr/ 7.5€ ; sur place +2.50 € ; limité à 80 participants \nCONTACT granaderomuald@free.fr tel 06/95/15/40/54 \n\n\n\n\nLieu de l’évènement  \n\nFONTAINEFontaine\n38 isere\nFrance\nGPS : -0°43’33.29”E48°54’15.57”N
URL:http://gmc38.fr/event/u17-grand-prix-de-fontaine/
END:VEVENT
BEGIN:VEVENT
DTSTART;TZID=Europe/Paris:20250914T080000
DTEND;TZID=Europe/Paris:20250914T120000
DTSTAMP:20260421T122932
CREATED:20250820T091006Z
LAST-MODIFIED:20250820T091203Z
UID:1342850-1757836800-1757851200@gmc38.fr
SUMMARY:Ecole de route - GRAND PRIX DE FONTAINE
DESCRIPTION:GRAND PRIX DE LA VILLE FONTAINE [38]: ASF Cyclisme Ecole de Cyclisme \nCIRCUIT: 1.7km à effectuer selon catégorie U7  1T  /  U9  2T  /  U11   6T /  U13   8 T  /  U15   20T \nDOSSARDS: 8h00 Contre allée Bd Paul Langevin 38600 FONTAINE \nDEPART: 9h00 idem \nEngagements par internet : https://club.ffc.fr/ \nCONTACT granaderomuald@free.fr tel 06/95/15/40/54 \n\n\n\n\nLieu de l’évènement  \n\nFONTAINEFontaine\n38 isere\nFrance\nGPS : -0°43’33.29”E48°54’15.57”N
URL:http://gmc38.fr/event/ecole-de-route-grand-prix-de-fontaine/
END:VEVENT
BEGIN:VEVENT
DTSTART;TZID=Europe/Paris:20250629T080000
DTEND;TZID=Europe/Paris:20250629T170000
DTSTAMP:20260421T122932
CREATED:20250512T135448Z
LAST-MODIFIED:20250624T110458Z
UID:1342492-1751184000-1751216400@gmc38.fr
SUMMARY:GP LES AVENIÈRES (Ecole de vélo. Open-Access)
DESCRIPTION:Lieu de départ : Ecole de Bulin\, route de Buvin\, D40d – Nombre de tours en fonction des catégories \n  \nDOSSARDS : 09h30 école de Buvin \n  \nDEPART : route de buvin 10H30 \n  \nENGAGEMENTS : https://club.ffc.fr/ \n  \nCONTACT : guillaume.lejeune.ccic38@gmail.com tel 06 43 4 \n7 64 69 \n 
URL:http://gmc38.fr/event/gp-les-avenieres-ecole-de-velo-open-access/
LOCATION:les avenières\, 2-46 D40D\, Les Avenières\, 38630
ATTACH;FMTTYPE=image/png:http://gmc38.fr/wp-content/uploads/2025/05/cropped-Logo-B.png
END:VEVENT
BEGIN:VEVENT
DTSTART;TZID=Europe/Paris:20250620T080000
DTEND;TZID=Europe/Paris:20250620T170000
DTSTAMP:20260421T122932
CREATED:20250512T095032Z
LAST-MODIFIED:20250512T135633Z
UID:1342481-1750406400-1750438800@gmc38.fr
SUMMARY:GRIMPEE DE L’ALPE Access - 1\, Access - 2\, Access - 3\, Access - 4\, Elite\, Open - 1\, Open - 2\, Open - 3\, U11\, U13\, U15\, U17\, U7\, U9
DESCRIPTION:Date limite d’inscription\n17 juin 2025
URL:http://gmc38.fr/event/grimpee-de-lalpe-access-1-access-2-access-3-access-4-elite-open-1-open-2-open-3-u11-u13-u15-u17-u7-u9/
ATTACH;FMTTYPE=image/png:http://gmc38.fr/wp-content/uploads/2025/05/Marmotte-2.png
END:VEVENT
BEGIN:VEVENT
DTSTART;TZID=Europe/Paris:20250608T080000
DTEND;TZID=Europe/Paris:20250608T170000
DTSTAMP:20260421T122932
CREATED:20250512T093954Z
LAST-MODIFIED:20250526T092832Z
UID:1342478-1749369600-1749402000@gmc38.fr
SUMMARY:GRAND PRIX DE SEYSSINET – U11\, U13\, U15\, U7\, U9
DESCRIPTION:Informations: \nOuverture des dossards à 8h00\nCatégorie U7 – Départ 9h30 1 tour = 1\,97km (Classement sur tour final uniquement)\nCatégorie U9 – départ 9h30 3 tours = 5\,91km (Classement sur tour final uniquement)\nCatégorie U11 – départ 10h15 4 tours = 7\,88km (Sprint points aux tours 2 et 4)\nCatégorie U13 – départ 11h15 7 tours = 13\,79km (Sprint points aux tours 2\, 5 et 7)\nCatégorie U15 – départ 12h30 – 15 tours = 29\,55km (Sprint points aux tours 5\, 10 et 15) \nDOSSARDS : 08H00 Complexe Sportif Joseph Guetat Rue Pierre de Coubertin \nDEPART : IDEM \nENGAGEMENT : https://club.ffc.fr/ \nCONTACT : c2s.cyclisme@gmail.com TEL 0476217692
URL:http://gmc38.fr/event/grand-prix-de-seyssinet-u11-u13-u15-u7-u9/
LOCATION:seyssinet\, Rue Pierre de Coubertin\, seyssinet pariset\, 38160\, France
ATTACH;FMTTYPE=image/png:http://gmc38.fr/wp-content/uploads/2025/05/logo-ffc.png
END:VEVENT
BEGIN:VEVENT
DTSTART;TZID=Europe/Paris:20250518T150000
DTEND;TZID=Europe/Paris:20250518T170000
DTSTAMP:20260421T122932
CREATED:20250509T083546Z
LAST-MODIFIED:20250509T114916Z
UID:1342442-1747580400-1747587600@gmc38.fr
SUMMARY:ACCESS 1/2/3/4 – ST MARTIN D HERES – PRIX CYCLISTE DU CAMPUS
DESCRIPTION:INFORMATIONS \ncircuit de 1.7 km à faire 35 fois soit 59.5 km \ndossards : 14h00 \ndépart: 15h00 \n  \n 
URL:http://gmc38.fr/event/access-1-2-3-4-st-martin-d-heres-prix-cycliste-du-campus/
LOCATION:Campus SMH\, Rue de la Piscine\, gieres\, 38610\, France
ATTACH;FMTTYPE=image/png:http://gmc38.fr/wp-content/uploads/2025/05/gmc38_logo-1.png
END:VEVENT
BEGIN:VEVENT
DTSTART;TZID=Europe/Paris:20250518T120000
DTEND;TZID=Europe/Paris:20250518T170000
DTSTAMP:20260421T122932
CREATED:20250509T082055Z
LAST-MODIFIED:20250509T114828Z
UID:1342434-1747569600-1747587600@gmc38.fr
SUMMARY:U 17 + FEMMES U 19 et + – ST MARTIN D HERES-PRIX CYCLISTE DU CAMPUS DE GRENOBLE
DESCRIPTION:INFORMATIONS \ncircuit de 1.7 km à faire 35 fois soit 59.5 km \ndossards : 12h00 \ndépart: 13h00
URL:http://gmc38.fr/event/u-17-femmes-u-19-et-st-martin-d-heres-prix-cycliste-du-campus-de-grenoble-dimanche-18-mai-2025-grenoble-metropole-cyclisme-38-u17et-femmes-js-saint-martin-dheres/
LOCATION:Campus SMH\, Rue de la Piscine\, gieres\, 38610\, France
ATTACH;FMTTYPE=image/png:http://gmc38.fr/wp-content/uploads/2025/05/gmc38_logo-1.png
END:VEVENT
BEGIN:VEVENT
DTSTART;TZID=Europe/Paris:20250518T080000
DTEND;TZID=Europe/Paris:20250518T120000
DTSTAMP:20260421T122932
CREATED:20250508T183116Z
LAST-MODIFIED:20250509T114929Z
UID:1342415-1747555200-1747569600@gmc38.fr
SUMMARY:Ecole de Route – ST MARTIN D HERES – PRIX CYCLISTE DU CAMPUS U9 à U15
DESCRIPTION:INFORMATIONS \n\nDistribution dossards à partir de 8h30.\nCourses :\n09H15 : U9: 2Tours X 1.7km = 3.4 kms 9H30 : U11 : 5 Tours X 1.7km = 8.5 kms\n10H00 : U13 : 8 Tours X 1.7km = 13.6kms 10H30 : U15 : 17 Tours X 1.7km = 28.9kms\nLes animations Sprints et Jeux seront organisées en parallèles. \n\nInscription coureurs GMC: gmc38engagement@gmail.com
URL:http://gmc38.fr/event/ecole-de-route-st-martin-d-heres-prix-cycliste-du-campus/
LOCATION:Campus SMH\, Rue de la Piscine\, gieres\, 38610\, France
ATTACH;FMTTYPE=image/png:http://gmc38.fr/wp-content/uploads/2025/05/gmc38_logo-1.png
END:VEVENT
END:VCALENDAR